BEGIN:VCALENDAR
VERSION:2.0
METHOD:PUBLISH
BEGIN:VEVENT
UID:WILD_APRICOT_EVENT_3247446_SESSION_1
DTSTART:20190319T010000Z
DTEND:20190319T020000Z
SUMMARY:The Selling Mindset for Marketers
LOCATION:online
DESCRIPTION:https://memberhub.ami.org.au/widget/event-3247446\n\n\n\n  Understanding persuasion: How to use behavioural tools to predict your customer's behaviour\, influence\, persuade and sell.\n  According to a study by Google and CEB\, more than 60 percent of the sale is already complete before sales engagement begins. \n \n Join the energetic Edward Zia from Excellence Above\, as he explains how to use behavioural tools such as the persuasion stack and DISC factors to preduct your customer's behaviour\, influence\, persaude and sell. \n  In this webinar\, Edward will teach you:\n  \n  Personal selling tips including building a persuasion stack\n      * How to build your selling mindset to win more clients\n\n        * How to use DISC factors: Dominance\, Influence\, Steadiness and Compliance to predict your customer's behavior \n\n  Edward Zia\nMarketing Mentor\, Coach and Blogger at Excellence Above\n  Edward Zia is a Marketing Mentor\, Personal Coach\, Online Educator\, Blogger\, Event Speaker and Master of Ceremonies. As a Marketing & Coaching Leader\, he has helped many people make lots of money and succeed. He also has a powerhouse partnership network with NSW Business Chamber\, British Chamber\, LinkedIn\, Microsoft\, Meetup\, Mailchimp\, Servcorp\, the ACCOR Group and more.\n  \n\n                          Lunch time learning webinars are proudly brought to you by\n                  \n
DTSTAMP:20260424T163625Z
END:VEVENT
END:VCALENDAR
